BEGIN:VCALENDAR
VERSION:2.0
PRODID:-//Diabetes Hope Foundation - ECPv6.15.20//NONSGML v1.0//EN
CALSCALE:GREGORIAN
METHOD:PUBLISH
X-ORIGINAL-URL:https://diabeteshopefoundation.com
X-WR-CALDESC:Events for Diabetes Hope Foundation
REFRESH-INTERVAL;VALUE=DURATION:PT1H
X-Robots-Tag:noindex
X-PUBLISHED-TTL:PT1H
BEGIN:VTIMEZONE
TZID:America/Toronto
BEGIN:DAYLIGHT
TZOFFSETFROM:-0500
TZOFFSETTO:-0400
TZNAME:EDT
DTSTART:20240310T070000
END:DAYLIGHT
BEGIN:STANDARD
TZOFFSETFROM:-0400
TZOFFSETTO:-0500
TZNAME:EST
DTSTART:20241103T060000
END:STANDARD
BEGIN:DAYLIGHT
TZOFFSETFROM:-0500
TZOFFSETTO:-0400
TZNAME:EDT
DTSTART:20250309T070000
END:DAYLIGHT
BEGIN:STANDARD
TZOFFSETFROM:-0400
TZOFFSETTO:-0500
TZNAME:EST
DTSTART:20251102T060000
END:STANDARD
BEGIN:DAYLIGHT
TZOFFSETFROM:-0500
TZOFFSETTO:-0400
TZNAME:EDT
DTSTART:20260308T070000
END:DAYLIGHT
BEGIN:STANDARD
TZOFFSETFROM:-0400
TZOFFSETTO:-0500
TZNAME:EST
DTSTART:20261101T060000
END:STANDARD
BEGIN:DAYLIGHT
TZOFFSETFROM:-0500
TZOFFSETTO:-0400
TZNAME:EDT
DTSTART:20270314T070000
END:DAYLIGHT
BEGIN:STANDARD
TZOFFSETFROM:-0400
TZOFFSETTO:-0500
TZNAME:EST
DTSTART:20271107T060000
END:STANDARD
END:VTIMEZONE
BEGIN:VEVENT
DTSTART;TZID=America/Toronto:20260401T190000
DTEND;TZID=America/Toronto:20260401T203000
DTSTAMP:20260420T235745
CREATED:20260326T193419Z
LAST-MODIFIED:20260326T193425Z
UID:1388371-1775070000-1775075400@diabeteshopefoundation.com
SUMMARY:Demystifying Diabetes: Navigating the Transition to Post-Secondary School
DESCRIPTION:Demystifying Diabetes: Navigating the Transition to Post-Secondary School\nJoin DHF and Diabetes Link U of T for the webinar in our two-part series about navigating post-secondary school with T1D. Part one focuses on accommodations\, campus supports and services to make the transition a little less overwhelming. \nDate: Wednesday\, April 1st\nTime: 7 pm – 8:30 pm EST\nLocation: Zoom \nQuestions? Contact us for more information.\n			\n				Register Now
URL:https://diabeteshopefoundation.com/event/demystifying-diabetes-navigating-the-transition-to-post-secondary-school/
LOCATION:Online Zoom
CATEGORIES:Campus Clubs,T1d Transition
ATTACH;FMTTYPE=image/webp:https://diabeteshopefoundation.com/wp-content/uploads/2026/03/Demystifying-Diabetes-Event-img.webp
ORGANIZER;CN="Diabetes Hope Foundation":MAILTO:info@diabeteshopefoundation.com
END:VEVENT
BEGIN:VEVENT
DTSTART;TZID=America/Toronto:20251105T190000
DTEND;TZID=America/Toronto:20251105T200000
DTSTAMP:20260420T235745
CREATED:20251024T142353Z
LAST-MODIFIED:20251024T181005Z
UID:1387103-1762369200-1762372800@diabeteshopefoundation.com
SUMMARY:Unique Careers with T1D (Webinar)
DESCRIPTION:Unique Careers with T1D\nThis webinar features guests working in unique careers where managing diabetes can be more challenging\, such as a firefighter\, marine biologist\, dancer\, and ski instructor. They will share stories about managing highs and lows\, advocating and educating about T1D in the workplace\, and building resilience through overcoming challenges. \nDate: November 5th\, 2025\nTime: 7:00 pm – 8:00 pm Eastern\nLocation: Zoom (registration required)\nCost: FREE \nHosted by: Abbi Cloth and Heather Cadigan\, DHF Program Facilitators\nPanelists: Peter Atkins (fire fighter)\, Scotia Brailsford (marine biologist)\, David Campbell (dancer) and Camille Vibert (ski instructor)\n			\n				REGISTER NOW\n			\n				\n				\n				\n				\n				For more information\, email abbi@diabeteshopefoundation.com
URL:https://diabeteshopefoundation.com/event/unique-careers-with-t1d/
LOCATION:Online Zoom
CATEGORIES:Careers with T1d,T1d Transition
ORGANIZER;CN="Diabetes Hope Foundation":MAILTO:info@diabeteshopefoundation.com
END:VEVENT
END:VCALENDAR